BEGIN:VCALENDAR
VERSION:2.0
PRODID:-//1D Lions | District 1D Lions - ECPv6.15.20//NONSGML v1.0//EN
CALSCALE:GREGORIAN
METHOD:PUBLISH
X-WR-CALNAME:1D Lions | District 1D Lions
X-ORIGINAL-URL:https://district1dlions.org
X-WR-CALDESC:Events for 1D Lions | District 1D Lions
REFRESH-INTERVAL;VALUE=DURATION:PT1H
X-Robots-Tag:noindex
X-PUBLISHED-TTL:PT1H
BEGIN:VTIMEZONE
TZID:America/Chicago
BEGIN:DAYLIGHT
TZOFFSETFROM:-0600
TZOFFSETTO:-0500
TZNAME:CDT
DTSTART:20210314T080000
END:DAYLIGHT
BEGIN:STANDARD
TZOFFSETFROM:-0500
TZOFFSETTO:-0600
TZNAME:CST
DTSTART:20211107T070000
END:STANDARD
BEGIN:DAYLIGHT
TZOFFSETFROM:-0600
TZOFFSETTO:-0500
TZNAME:CDT
DTSTART:20220313T080000
END:DAYLIGHT
BEGIN:STANDARD
TZOFFSETFROM:-0500
TZOFFSETTO:-0600
TZNAME:CST
DTSTART:20221106T070000
END:STANDARD
BEGIN:DAYLIGHT
TZOFFSETFROM:-0600
TZOFFSETTO:-0500
TZNAME:CDT
DTSTART:20230312T080000
END:DAYLIGHT
BEGIN:STANDARD
TZOFFSETFROM:-0500
TZOFFSETTO:-0600
TZNAME:CST
DTSTART:20231105T070000
END:STANDARD
BEGIN:DAYLIGHT
TZOFFSETFROM:-0600
TZOFFSETTO:-0500
TZNAME:CDT
DTSTART:20240310T080000
END:DAYLIGHT
BEGIN:STANDARD
TZOFFSETFROM:-0500
TZOFFSETTO:-0600
TZNAME:CST
DTSTART:20241103T070000
END:STANDARD
END:VTIMEZONE
BEGIN:VEVENT
DTSTART;TZID=America/Chicago:20230407T170000
DTEND;TZID=America/Chicago:20230407T190000
DTSTAMP:20260423T120408
CREATED:20230307T230045Z
LAST-MODIFIED:20230307T230045Z
UID:478-1680886800-1680894000@district1dlions.org
SUMMARY:FISH BOIL
DESCRIPTION:Capron Lions Club is hosting a Fish Boil
URL:https://district1dlions.org/event/fish-boil/
LOCATION:Capron Lions Building\, 305 E. North Street\, Capron\, Illinois\, 61012
END:VEVENT
BEGIN:VEVENT
DTSTART;TZID=America/Chicago:20230402T080000
DTEND;TZID=America/Chicago:20230402T160000
DTSTAMP:20260423T120408
CREATED:20230307T223932Z
LAST-MODIFIED:20230307T223932Z
UID:476-1680422400-1680451200@district1dlions.org
SUMMARY:Toy Collectors Auction
DESCRIPTION:Capron Lions Club is hosting a Toy Collectors Auction at the Capron Lions Building. Viewing will begin at 8am and Auction begins at 10am. \n 
URL:https://district1dlions.org/event/toy-collectors-auction/
LOCATION:Capron Lions Building\, 305 E. North Street\, Capron\, Illinois\, 61012
END:VEVENT
BEGIN:VEVENT
DTSTART;TZID=America/Chicago:20230324T190000
DTEND;TZID=America/Chicago:20230325T220000
DTSTAMP:20260423T120408
CREATED:20230202T221652Z
LAST-MODIFIED:20230202T224936Z
UID:396-1679684400-1679781600@district1dlions.org
SUMMARY:1-D District Convention
DESCRIPTION:District 1-D Welcomes PIP Jimmy Ross. Mark your calendars! The District Convention is right around the corner\, PIP Jimmy Ross is the Guest Speaker\, and it is going to be fun.  Let’s pack the Radisson. District Convention Info Packet \n 
URL:https://district1dlions.org/event/1-d-district-convention/
LOCATION:Radisson Hotel & Conference Center\, 200 S. Bell School Road\, Rockford\, IL
ATTACH;FMTTYPE=image/png:https://district1dlions.org/wp-content/uploads/2023/02/PIP-Jimmy-Ross.png
END:VEVENT
BEGIN:VEVENT
DTSTART;TZID=America/Chicago:20230316T120000
DTEND;TZID=America/Chicago:20230316T150000
DTSTAMP:20260423T120408
CREATED:20230307T223429Z
LAST-MODIFIED:20230307T223429Z
UID:473-1678968000-1678978800@district1dlions.org
SUMMARY:Senior Gather
DESCRIPTION:FUN FOR SENIORS \nCapron Lions Club is hosting a Senior Gather at Noon.
URL:https://district1dlions.org/event/senior-gather/
LOCATION:Capron Lions Building\, 305 E. North Street\, Capron\, Illinois\, 61012
END:VEVENT
BEGIN:VEVENT
DTSTART;TZID=America/Chicago:20230304T090000
DTEND;TZID=America/Chicago:20230304T150000
DTSTAMP:20260423T120408
CREATED:20230203T000840Z
LAST-MODIFIED:20230203T000840Z
UID:414-1677920400-1677942000@district1dlions.org
SUMMARY:Polo Farm Toy Show
DESCRIPTION:38th Annual Toy Show sponsored by Polo Lions Club. Vendor tables are available.
URL:https://district1dlions.org/event/polo-farm-toy-show/
LOCATION:Polo High School\, 100 Union Ave\, Polo\, IL
END:VEVENT
BEGIN:VEVENT
DTSTART;TZID=America/Chicago:20230225T190000
DTEND;TZID=America/Chicago:20230225T230000
DTSTAMP:20260423T120408
CREATED:20230202T230756Z
LAST-MODIFIED:20230202T230756Z
UID:404-1677351600-1677366000@district1dlions.org
SUMMARY:District 1-D Lions Night with the Rockford IceHogs
DESCRIPTION:Join us on February 25th for a night of fun and hockey. 7pm Puck Drop. Tickets $12 each. See flyer for more info.  Lions Icehogs Flyer
URL:https://district1dlions.org/event/district-1-d-lions-night-with-the-rockford-icehogs/
LOCATION:BMO Harris Bank Center\, 300 Elm Street\, Rockford\, IL\, 61101
ATTACH;FMTTYPE=image/png:https://district1dlions.org/wp-content/uploads/2023/02/icehogs.png
END:VEVENT
BEGIN:VEVENT
DTSTART;TZID=America/Chicago:20221029T080000
DTEND;TZID=America/Chicago:20221029T170000
DTSTAMP:20260423T120408
CREATED:20220825T164019Z
LAST-MODIFIED:20220825T164019Z
UID:325-1667030400-1667062800@district1dlions.org
SUMMARY:Galena Lions Club Candy Day
DESCRIPTION:Galena Lions will be holding their Candy Day on October 29th on Main Street and at the Piggly Wiggly. Lions will be giving away rolls of candy and accepting monetary contributions to be used in helping people with vision and hearing needs throughout Illinois.
URL:https://district1dlions.org/event/galena-lions-club-candy-day/
LOCATION:Illinois
END:VEVENT
BEGIN:VEVENT
DTSTART;TZID=America/Chicago:20221001T120000
DTEND;TZID=America/Chicago:20221001T220000
DTSTAMP:20260423T120408
CREATED:20220825T163441Z
LAST-MODIFIED:20220825T163441Z
UID:320-1664625600-1664661600@district1dlions.org
SUMMARY:Galena Lions Club Octoberfest
DESCRIPTION:Galena Lions Club will be hosting their 15th Annual Galena Octoberfest at Depot Park on October 1st. See flyer for more info. \n \n 
URL:https://district1dlions.org/event/galena-lions-club-octoberfest/
LOCATION:Depot Park\, Galena\, Illinois
END:VEVENT
BEGIN:VEVENT
DTSTART;TZID=America/Chicago:20221001T000000
DTEND;TZID=America/Chicago:20221002T000000
DTSTAMP:20260423T120408
CREATED:20220907T222310Z
LAST-MODIFIED:20220907T222310Z
UID:346-1664582400-1664668800@district1dlions.org
SUMMARY:Oregon Lions at Autum on Parade Festival
DESCRIPTION:The Oregon Lions will be at Autum of Parade. \nAutumn on Parade\, held the FIRST WEEKEND in OCTOBER\, is a volunteer-based organization that includes more than 180 vendors and other events such as the Harvest Time Parade\, Auto Classic and many more family orientated events. Make plans to visit Oregon and enjoy the festival! Click here for a list of weekend events. \n \n*photo from City of Oregon Website
URL:https://district1dlions.org/event/oregon-lions-at-autum-on-parade-festival/
LOCATION:Oregon\, Illinois
END:VEVENT
BEGIN:VEVENT
DTSTART;TZID=America/Chicago:20220930T190000
DTEND;TZID=America/Chicago:20220930T213000
DTSTAMP:20260423T120408
CREATED:20220907T200751Z
LAST-MODIFIED:20220907T212046Z
UID:341-1664564400-1664573400@district1dlions.org
SUMMARY:Movie Night in the Park with the Poplar Grove Lions Club
DESCRIPTION:Come join the Poplar Grove Lions for the first ever Movie Night in Lions Park for a showing of the Incredibles. The event is FREE to the public. Concessions (popcorn\, soda\, water & candy) will be available for purchase
URL:https://district1dlions.org/event/movie-night-in-the-park-with-the-poplar-grove-lions-club/
LOCATION:Lions Park\, 231 Summitt Street\, Poplar Grove\, Illinois\, 61065
END:VEVENT
BEGIN:VEVENT
DTSTART;TZID=America/Chicago:20220925T100000
DTEND;TZID=America/Chicago:20220925T140000
DTSTAMP:20260423T120408
CREATED:20220907T185937Z
LAST-MODIFIED:20220907T185937Z
UID:337-1664100000-1664114400@district1dlions.org
SUMMARY:Poplar Grove Lions to host Mobile Sight & Sound Screen Bus
DESCRIPTION:The Poplar Grove Lions Club will be hosting the Mobile Sight & Sound Screening Bus at Veterans Memorial Park in Poplar Grove. Since 2007 The Lions of Illinois Foundation Mobile Screening Unit Program has been traveling throughout Illinois screening for hearing loss and Retinal eye diseases. Click Here for more info on Mobile Screening and plan your screening with the Poplar Grove Lions Club.
URL:https://district1dlions.org/event/poplar-grove-lions-to-host-mobile-sight-sound-screen-bus/
LOCATION:Veterans Memorial Park\, W. Main Street\, Poplar Grove\, Illinois\, 61065
END:VEVENT
BEGIN:VEVENT
DTSTART;TZID=America/Chicago:20220917T110000
DTEND;TZID=America/Chicago:20220917T150000
DTSTAMP:20260423T120408
CREATED:20220822T025123Z
LAST-MODIFIED:20220822T152335Z
UID:178-1663412400-1663426800@district1dlions.org
SUMMARY:Candy Day Jamboree
DESCRIPTION:
URL:https://district1dlions.org/event/candy-day-jamboree/
LOCATION:Center for Sight and Hearing
END:VEVENT
BEGIN:VEVENT
DTSTART;TZID=America/Chicago:20220917T090000
DTEND;TZID=America/Chicago:20220917T220000
DTSTAMP:20260423T120408
CREATED:20220824T181939Z
LAST-MODIFIED:20220824T181939Z
UID:286-1663405200-1663452000@district1dlions.org
SUMMARY:Kirkland Lions Fall Fest
DESCRIPTION:The Hiawatha FFA Alumni\, Kirkland Fire Department\, Kirkland Lions Club and Kirkland Chamber of Commerce are joining efforts again for the 2nd Annual Kirkland Fall Festival! \nThe event will include a Craft Fair\, Petting Zoo\, Straw Maze\, Touch-a-Truck\, Bags\, Live Music and more!!
URL:https://district1dlions.org/event/kirkland-lions-fall-fest/
LOCATION:Franklin Township Park\, Kirkland\, Illinois
END:VEVENT
BEGIN:VEVENT
DTSTART;TZID=America/Chicago:20220917T080000
DTEND;TZID=America/Chicago:20220917T100000
DTSTAMP:20260423T120408
CREATED:20220907T143949Z
LAST-MODIFIED:20220907T143949Z
UID:333-1663401600-1663408800@district1dlions.org
SUMMARY:Poplar Grove Lions Route 173 Clean Up
DESCRIPTION:Each Fall & Spring\, the Lions Club of Poplar Grove picks up trash & debris along Route 173 from Poplar Grove Road to Route 76. Come join them to help keep the town clean!
URL:https://district1dlions.org/event/poplar-grove-lions-route-173-clean-up/
LOCATION:Lions Park\, 231 Summitt Street\, Poplar Grove\, Illinois\, 61065
END:VEVENT
BEGIN:VEVENT
DTSTART;TZID=America/Chicago:20220916T080000
DTEND;TZID=America/Chicago:20220917T120000
DTSTAMP:20260423T120408
CREATED:20220825T162508Z
LAST-MODIFIED:20220825T162508Z
UID:316-1663315200-1663416000@district1dlions.org
SUMMARY:Dixon Evening Lions Club Rose Day
DESCRIPTION:The Dixon Evening Lions Club is selling tickets ($20/dozen) for their annual Rose Day fundraiser.  This event shall take place on Friday\, September 16 and Saturday\, September 17.  If you have placed an order\, you may pick up your roses at Flowers\, ETC in Dixon\, IL either on the morning of the 16th or the morning of the 17th. \nIf you are interested in purchasing a dozen roses\, contact Lion Gary Presley (Rose Day Chairman) at:   gary.presley.cywz@statefarm.com 
URL:https://district1dlions.org/event/dixon-evening-lions-club-rose-day/
LOCATION:Dixon\, Dixon\, Illinois
END:VEVENT
BEGIN:VEVENT
DTSTART;TZID=America/Chicago:20220910T183000
DTEND;TZID=America/Chicago:20220910T213000
DTSTAMP:20260423T120408
CREATED:20220822T172531Z
LAST-MODIFIED:20220822T172531Z
UID:218-1662834600-1662845400@district1dlions.org
SUMMARY:2022 Drawdown
DESCRIPTION:The Amboy Lions 2022 Drawdown will be held at the Amboy Community Center on Saturday September 10th at 6:30pm. For more info visit Amboy Lions Facebook.
URL:https://district1dlions.org/event/2022-drawdown/
LOCATION:Amboy Community Center\, 280 W. Wasson Rd\, Amboy\, Illinois\, 61310
END:VEVENT
BEGIN:VEVENT
DTSTART;TZID=America/Chicago:20220909T080000
DTEND;TZID=America/Chicago:20220911T220000
DTSTAMP:20260423T120408
CREATED:20220825T150645Z
LAST-MODIFIED:20220825T150645Z
UID:307-1662710400-1662933600@district1dlions.org
SUMMARY:Roscoe Lions Club Fall Festival
DESCRIPTION:Roscoe Lions Club Fall Festival will be held Sept 9th – 11th at Leland Park. See flyer for schedule of events.
URL:https://district1dlions.org/event/roscoe-lions-club-fall-festival/
LOCATION:Leland Park\, Roscoe\, Illinois\, 61073
END:VEVENT
BEGIN:VEVENT
DTSTART;TZID=America/Chicago:20220904T110000
DTEND;TZID=America/Chicago:20220905T180000
DTSTAMP:20260423T120408
CREATED:20220824T183418Z
LAST-MODIFIED:20220824T183418Z
UID:291-1662289200-1662400800@district1dlions.org
SUMMARY:Paw Paw Lions Labor Day Celebration
DESCRIPTION:Join the Paw Paw Lions Club on Labor Day weekend for some fun! \nFood Stands – Flea Market & Craft Show – Truck/Tractor Pull and so much more. \nMulti-day event. See Flyer for schedule. \n \n  \n 
URL:https://district1dlions.org/event/paw-paw-lions-labor-day-celebration/
LOCATION:Veteran’s Park\, Paw Paw\, Illinois
END:VEVENT
BEGIN:VEVENT
DTSTART;TZID=America/Chicago:20220903T080000
DTEND;TZID=America/Chicago:20220903T170000
DTSTAMP:20260423T120408
CREATED:20220825T145817Z
LAST-MODIFIED:20220825T151935Z
UID:303-1662192000-1662224400@district1dlions.org
SUMMARY:Polo Lions Hazel Hurst Sale
DESCRIPTION:Polo Lions will be holding their fall Hazel Hurst Sale on September 3rd.
URL:https://district1dlions.org/event/polo-lions-hazel-hurst-sale/
LOCATION:W. Milledgeville Rd.\, 17748 W. Milledgeville Rd\, Polo\, Illinois\, 61064
END:VEVENT
BEGIN:VEVENT
DTSTART;TZID=America/Chicago:20220827T150000
DTEND;TZID=America/Chicago:20220827T180000
DTSTAMP:20260423T120408
CREATED:20220822T171530Z
LAST-MODIFIED:20220822T171530Z
UID:213-1661612400-1661623200@district1dlions.org
SUMMARY:Amboy Depot Days
DESCRIPTION:The Amboy Lions Club 2022 Depot Days Parade will be held on Saturday August 27th at 3pm on Main Street. This year’s theme is “Saturday in the Park” For more information visit Amboy Lions Facebook
URL:https://district1dlions.org/event/amboy-depot-days/
LOCATION:Amboy Illinois\, Main Street\, Amboy\, IL\, United States
END:VEVENT
BEGIN:VEVENT
DTSTART;TZID=America/Chicago:20220827T120000
DTEND;TZID=America/Chicago:20220827T180000
DTSTAMP:20260423T120408
CREATED:20220825T144940Z
LAST-MODIFIED:20220825T150749Z
UID:297-1661601600-1661623200@district1dlions.org
SUMMARY:Capron Lions BBQ Chicken Dinner
DESCRIPTION:Capron Lions and Capron Fire jointly provide a BBQ Chicken meal to raise funds for both entities to improve their response to the needs of the community.
URL:https://district1dlions.org/event/capron-lions-bbq-chicken-dinner/
LOCATION:Capron Lions Building\, 305 E. North Street\, Capron\, Illinois\, 61012
END:VEVENT
BEGIN:VEVENT
DTSTART;TZID=America/Chicago:20220827T100000
DTEND;TZID=America/Chicago:20220827T170000
DTSTAMP:20260423T120408
CREATED:20220822T151857Z
LAST-MODIFIED:20220822T151857Z
UID:196-1661594400-1661619600@district1dlions.org
SUMMARY:District Golf Outing
DESCRIPTION:Come out and support District Governor Nicole Fruit. \n 
URL:https://district1dlions.org/event/district-golf-outing/
LOCATION:Park Hills West Golf Course\, Freeport\, Illinois
END:VEVENT
BEGIN:VEVENT
DTSTART;TZID=America/Chicago:20220823T080000
DTEND;TZID=America/Chicago:20220917T000000
DTSTAMP:20260423T120408
CREATED:20220823T215530Z
LAST-MODIFIED:20220823T215530Z
UID:275-1661241600-1663372800@district1dlions.org
SUMMARY:Genoa Lions Mum Sale
DESCRIPTION:Lions Club mums are back! A great gift for family\, friends\, or your own front porch! \nOrder yours today!
URL:https://district1dlions.org/event/genoa-lions-mum-sale/
LOCATION:Genoa\, IL
END:VEVENT
BEGIN:VEVENT
DTSTART;TZID=America/Chicago:20220801T000000
DTEND;TZID=America/Chicago:20220919T000000
DTSTAMP:20260423T120408
CREATED:20220907T143230Z
LAST-MODIFIED:20220907T143230Z
UID:328-1659312000-1663545600@district1dlions.org
SUMMARY:Poplar Grove Lions Fire Hydrant Painting
DESCRIPTION:The Village of Poplar Grove is hosting their first annual fire hydrant painting contest. The contest runs from August 1st thru September 19th. See flyer for details.
URL:https://district1dlions.org/event/poplar-grove-lions-fire-hydrant-painting/
LOCATION:Village of Poplar Grove\, Poplar Grove\, Illinois\, 61065
END:VEVENT
END:VCALENDAR